BEGIN:VCALENDAR
VERSION:2.0
PRODID:-//Marc Brenken | Jazzpianist &amp; Komponist - ECPv6.15.20//NONSGML v1.0//EN
CALSCALE:GREGORIAN
METHOD:PUBLISH
X-ORIGINAL-URL:https://marcbrenken.com/en
X-WR-CALDESC:Events for Marc Brenken | Jazzpianist &amp; Komponist
REFRESH-INTERVAL;VALUE=DURATION:PT1H
X-Robots-Tag:noindex
X-PUBLISHED-TTL:PT1H
BEGIN:VTIMEZONE
TZID:Europe/Berlin
BEGIN:DAYLIGHT
TZOFFSETFROM:+0100
TZOFFSETTO:+0200
TZNAME:CEST
DTSTART:20240331T010000
END:DAYLIGHT
BEGIN:STANDARD
TZOFFSETFROM:+0200
TZOFFSETTO:+0100
TZNAME:CET
DTSTART:20241027T010000
END:STANDARD
BEGIN:DAYLIGHT
TZOFFSETFROM:+0100
TZOFFSETTO:+0200
TZNAME:CEST
DTSTART:20250330T010000
END:DAYLIGHT
BEGIN:STANDARD
TZOFFSETFROM:+0200
TZOFFSETTO:+0100
TZNAME:CET
DTSTART:20251026T010000
END:STANDARD
BEGIN:DAYLIGHT
TZOFFSETFROM:+0100
TZOFFSETTO:+0200
TZNAME:CEST
DTSTART:20260329T010000
END:DAYLIGHT
BEGIN:STANDARD
TZOFFSETFROM:+0200
TZOFFSETTO:+0100
TZNAME:CET
DTSTART:20261025T010000
END:STANDARD
END:VTIMEZONE
BEGIN:VEVENT
DTSTART;TZID=Europe/Berlin:20250917T200000
DTEND;TZID=Europe/Berlin:20250917T210000
DTSTAMP:20260420T110031
CREATED:20250826T100742Z
LAST-MODIFIED:20250826T100742Z
UID:1546-1758139200-1758142800@marcbrenken.com
SUMMARY:Funky Lyrical
DESCRIPTION:mit Jim Galakti (Trompete)\, Carlotta Ribbe (Vibraphon) & Marc Brenken (Piano\, Keyboards) – Konzert Nr. 428 der Reihe JAZZ FOR THE PEOPLE (Änderungen vorbehalten)
URL:https://marcbrenken.com/en/event/funky-lyrical/
LOCATION:Katakomben-Theater im Girardethaus\, Girardetstr. 8\, Essen\, 45131
END:VEVENT
END:VCALENDAR