BEGIN:VCALENDAR
VERSION:2.0
PRODID:-//Marc Brenken | Jazzpianist &amp; Komponist - ECPv6.15.20//NONSGML v1.0//EN
CALSCALE:GREGORIAN
METHOD:PUBLISH
X-WR-CALNAME:Marc Brenken | Jazzpianist &amp; Komponist
X-ORIGINAL-URL:https://marcbrenken.com/en
X-WR-CALDESC:Events for Marc Brenken | Jazzpianist &amp; Komponist
REFRESH-INTERVAL;VALUE=DURATION:PT1H
X-Robots-Tag:noindex
X-PUBLISHED-TTL:PT1H
BEGIN:VTIMEZONE
TZID:Europe/Berlin
BEGIN:DAYLIGHT
TZOFFSETFROM:+0100
TZOFFSETTO:+0200
TZNAME:CEST
DTSTART:20220327T010000
END:DAYLIGHT
BEGIN:STANDARD
TZOFFSETFROM:+0200
TZOFFSETTO:+0100
TZNAME:CET
DTSTART:20221030T010000
END:STANDARD
BEGIN:DAYLIGHT
TZOFFSETFROM:+0100
TZOFFSETTO:+0200
TZNAME:CEST
DTSTART:20230326T010000
END:DAYLIGHT
BEGIN:STANDARD
TZOFFSETFROM:+0200
TZOFFSETTO:+0100
TZNAME:CET
DTSTART:20231029T010000
END:STANDARD
BEGIN:DAYLIGHT
TZOFFSETFROM:+0100
TZOFFSETTO:+0200
TZNAME:CEST
DTSTART:20240331T010000
END:DAYLIGHT
BEGIN:STANDARD
TZOFFSETFROM:+0200
TZOFFSETTO:+0100
TZNAME:CET
DTSTART:20241027T010000
END:STANDARD
END:VTIMEZONE
BEGIN:VEVENT
DTSTART;TZID=Europe/Berlin:20230222T200000
DTEND;TZID=Europe/Berlin:20230222T210000
DTSTAMP:20260421T152248
CREATED:20230113T153736Z
LAST-MODIFIED:20230130T132433Z
UID:1103-1677096000-1677099600@marcbrenken.com
SUMMARY:Happy Birthday! 10 Jahre Jazz for the People
DESCRIPTION:Die Essener Konzertreihe feiert ihr 10jähriges Bestehen. \nMit Florian Boos (Tenorsaxophon)\, Lars Kuklinski (Trompete)\, James Morgan (E-Bass)\, Hermann Heidenreich (Schlagzeug) und Marc Brenken (E-Piano\, Komposition).
URL:https://marcbrenken.com/en/event/10-jahre-jazz-for-the-people/
LOCATION:Katakomben-Theater im Girardethaus\, Girardetstr. 8\, Essen\, 45131
END:VEVENT
END:VCALENDAR